BEGIN:VCALENDAR
VERSION:2.0
PRODID:-//City of Martinsville, Illinois - ECPv6.15.20//NONSGML v1.0//EN
CALSCALE:GREGORIAN
METHOD:PUBLISH
X-ORIGINAL-URL:https://martinsvilleil.com
X-WR-CALDESC:Events for City of Martinsville, Illinois
REFRESH-INTERVAL;VALUE=DURATION:PT1H
X-Robots-Tag:noindex
X-PUBLISHED-TTL:PT1H
BEGIN:VTIMEZONE
TZID:UTC
BEGIN:STANDARD
TZOFFSETFROM:+0000
TZOFFSETTO:+0000
TZNAME:UTC
DTSTART:20230101T000000
END:STANDARD
END:VTIMEZONE
BEGIN:VEVENT
DTSTART;TZID=UTC:20241009T190000
DTEND;TZID=UTC:20241009T190000
DTSTAMP:20260425T180041
CREATED:20240520T002003Z
LAST-MODIFIED:20241008T092026Z
UID:1232-1728500400-1728500400@martinsvilleil.com
SUMMARY:City Council Meeting - October 9\, 2024
DESCRIPTION:Join us at Martinsville City Hall for city council meetings held on the 2nd and 4th Wednesdays of every month at 7pm (Central). Stay informed\, voice your opinions\, and shape the future of our community. \nAgenda 10-09-2024\n \nDon’t miss the opportunity to be part of the decision-making process. Mark your calendars and attend our upcoming city council meetings!
URL:https://martinsvilleil.com/event/city-council-meeting-october-9-2024/
LOCATION:City Hall\, 55 W. Cumberland St.\, Martinsville\, Illinois\, 62442
CATEGORIES:City Council Meeting
END:VEVENT
BEGIN:VEVENT
DTSTART;TZID=UTC:20241010T080000
DTEND;TZID=UTC:20241010T170000
DTSTAMP:20260425T180041
CREATED:20241011T035220Z
LAST-MODIFIED:20241011T035220Z
UID:7141-1728547200-1728579600@martinsvilleil.com
SUMMARY:Special Meeting - October 13\, 2024
DESCRIPTION:A special meeting of City Council will be held on Sunday\, October 13 at 1pm at Martinsville City Hall. \n10-13-2024 Special Meeting Agenda\n 
URL:https://martinsvilleil.com/event/special-meeting-october-13-2024/
LOCATION:City Hall\, 55 W. Cumberland St.\, Martinsville\, Illinois\, 62442
CATEGORIES:City Council Meeting
END:VEVENT
BEGIN:VEVENT
DTSTART;TZID=UTC:20241023T190000
DTEND;TZID=UTC:20241023T190000
DTSTAMP:20260425T180041
CREATED:20240520T002153Z
LAST-MODIFIED:20241022T071632Z
UID:1234-1729710000-1729710000@martinsvilleil.com
SUMMARY:City Council Meeting - October 23\, 2024
DESCRIPTION:Join us at Martinsville City Hall for city council meetings held on the 2nd and 4th Wednesdays of every month at 7pm (Central). Stay informed\, voice your opinions\, and shape the future of our community. \n10-23-2024 Agenda\n \nDon’t miss the opportunity to be part of the decision-making process. Mark your calendars and attend our upcoming city council meetings!
URL:https://martinsvilleil.com/event/city-council-meeting-october-23-2024/
LOCATION:City Hall\, 55 W. Cumberland St.\, Martinsville\, Illinois\, 62442
CATEGORIES:City Council Meeting
END:VEVENT
END:VCALENDAR