BEGIN:VCALENDAR
VERSION:2.0
PRODID:-//City of Martinsville, Illinois - ECPv6.15.20//NONSGML v1.0//EN
CALSCALE:GREGORIAN
METHOD:PUBLISH
X-WR-CALNAME:City of Martinsville, Illinois
X-ORIGINAL-URL:https://martinsvilleil.com
X-WR-CALDESC:Events for City of Martinsville, Illinois
REFRESH-INTERVAL;VALUE=DURATION:PT1H
X-Robots-Tag:noindex
X-PUBLISHED-TTL:PT1H
BEGIN:VTIMEZONE
TZID:UTC
BEGIN:STANDARD
TZOFFSETFROM:+0000
TZOFFSETTO:+0000
TZNAME:UTC
DTSTART:20220101T000000
END:STANDARD
END:VTIMEZONE
BEGIN:VEVENT
DTSTART;TZID=UTC:20240710T190000
DTEND;TZID=UTC:20240710T190000
DTSTAMP:20260424T073107
CREATED:20240520T000805Z
LAST-MODIFIED:20240708T231800Z
UID:1220-1720638000-1720638000@martinsvilleil.com
SUMMARY:City Council Meeting - July 10\, 2024
DESCRIPTION:Join us at Martinsville City Hall for city council meetings held on the 2nd and 4th Wednesdays of every month at 7pm (Central). Stay informed\, voice your opinions\, and shape the future of our community. \n07-10-24 Amended Agenda.docx\n \nDon’t miss the opportunity to be part of the decision-making process. Mark your calendars and attend our upcoming city council meetings!
URL:https://martinsvilleil.com/event/city-council-meeting-july-10-2024/
LOCATION:City Hall\, 55 W. Cumberland St.\, Martinsville\, Illinois\, 62442
CATEGORIES:City Council Meeting
END:VEVENT
BEGIN:VEVENT
DTSTART;TZID=UTC:20240626T190000
DTEND;TZID=UTC:20240626T190000
DTSTAMP:20260424T073107
CREATED:20240520T000307Z
LAST-MODIFIED:20240622T074418Z
UID:1216-1719428400-1719428400@martinsvilleil.com
SUMMARY:City Council Meeting - June 26\, 2024
DESCRIPTION:Join us at Martinsville City Hall for city council meetings held on the 2nd and 4th Wednesdays of every month at 7pm (Central). Stay informed\, voice your opinions\, and shape the future of our community. \n  \n06-26-24 Agenda.docx\n  \n \nDon’t miss the opportunity to be part of the decision-making process. Mark your calendars and attend our upcoming city council meetings!
URL:https://martinsvilleil.com/event/city-council-meeting-june-26-2024/
LOCATION:City Hall\, 55 W. Cumberland St.\, Martinsville\, Illinois\, 62442
CATEGORIES:City Council Meeting
END:VEVENT
BEGIN:VEVENT
DTSTART;TZID=UTC:20240612T190000
DTEND;TZID=UTC:20240612T190000
DTSTAMP:20260424T073107
CREATED:20240520T000002Z
LAST-MODIFIED:20240611T021933Z
UID:1214-1718218800-1718218800@martinsvilleil.com
SUMMARY:City Council Meeting - June 12\, 2024
DESCRIPTION:Join us at Martinsville City Hall for city council meetings held on the 2nd and 4th Wednesdays of every month at 7pm (Central). Stay informed\, voice your opinions\, and shape the future of our community. \n06-12-24 Agenda.docx\n \nDon’t miss the opportunity to be part of the decision-making process. Mark your calendars and attend our upcoming city council meetings!
URL:https://martinsvilleil.com/event/city-council-meeting-june-12-2024/
LOCATION:City Hall\, 55 W. Cumberland St.\, Martinsville\, Illinois\, 62442
CATEGORIES:City Council Meeting
END:VEVENT
BEGIN:VEVENT
DTSTART;TZID=UTC:20240522T190000
DTEND;TZID=UTC:20240522T190000
DTSTAMP:20260424T073107
CREATED:20240505T221409Z
LAST-MODIFIED:20240521T003816Z
UID:1111-1716404400-1716404400@martinsvilleil.com
SUMMARY:City Council Meeting - May 22\, 2024
DESCRIPTION:Join us at Martinsville City Hall for city council meetings held on the 2nd and 4th Wednesdays of every month at 7pm (Central). Stay informed\, voice your opinions\, and shape the future of our community. \n05-22-24 Agenda.docx\n \nDon’t miss the opportunity to be part of the decision-making process. Mark your calendars and attend our upcoming city council meetings!
URL:https://martinsvilleil.com/event/city-council-meeting-may-22-2024/
LOCATION:City Hall\, 55 W. Cumberland St.\, Martinsville\, Illinois\, 62442
CATEGORIES:City Council Meeting
END:VEVENT
BEGIN:VEVENT
DTSTART;TZID=UTC:20240508T190000
DTEND;TZID=UTC:20240508T190000
DTSTAMP:20260424T073107
CREATED:20240505T220611Z
LAST-MODIFIED:20240505T220758Z
UID:1108-1715194800-1715194800@martinsvilleil.com
SUMMARY:City Council Meeting - May 8\, 2024
DESCRIPTION:Join us at Martinsville City Hall for city council meetings held on the 2nd and 4th Wednesdays of every month at 7pm (Central). Stay informed\, voice your opinions\, and shape the future of our community. \n05-08-24 Agenda.docx\n  \n \nDon’t miss the opportunity to be part of the decision-making process. Mark your calendars and attend our upcoming city council meetings!
URL:https://martinsvilleil.com/event/city-council-meeting-may-08-2024/
LOCATION:City Hall\, 55 W. Cumberland St.\, Martinsville\, Illinois\, 62442
CATEGORIES:City Council Meeting
END:VEVENT
BEGIN:VEVENT
DTSTART;TZID=UTC:20240424T190000
DTEND;TZID=UTC:20240424T190000
DTSTAMP:20260424T073107
CREATED:20240406T191323Z
LAST-MODIFIED:20240622T074517Z
UID:935-1713985200-1713985200@martinsvilleil.com
SUMMARY:City Council Meeting - April 24\, 2024
DESCRIPTION:Join us at Martinsville City Hall for city council meetings held on the 2nd and 4th Wednesdays of every month at 7pm (Central). Stay informed\, voice your opinions\, and shape the future of our community. \n04-24-24 Agenda_CX.docx\n \nDon’t miss the opportunity to be part of the decision-making process. Mark your calendars and attend our upcoming city council meetings!
URL:https://martinsvilleil.com/event/city-council-meeting-april-24-2024/
LOCATION:City Hall\, 55 W. Cumberland St.\, Martinsville\, Illinois\, 62442
CATEGORIES:City Council Meeting
END:VEVENT
BEGIN:VEVENT
DTSTART;TZID=UTC:20240410T190000
DTEND;TZID=UTC:20240410T190000
DTSTAMP:20260424T073107
CREATED:20240406T191147Z
LAST-MODIFIED:20240622T074530Z
UID:933-1712775600-1712775600@martinsvilleil.com
SUMMARY:City Council Meeting - April 10\, 2024
DESCRIPTION:Join us at Martinsville City Hall for city council meetings held on the 2nd and 4th Wednesdays of every month at 7pm (Central). Stay informed\, voice your opinions\, and shape the future of our community. \n04-10-24 Agenda.docx\n \nDon’t miss the opportunity to be part of the decision-making process. Mark your calendars and attend our upcoming city council meetings!
URL:https://martinsvilleil.com/event/city-council-meeting-april-10-2024/
LOCATION:City Hall\, 55 W. Cumberland St.\, Martinsville\, Illinois\, 62442
CATEGORIES:City Council Meeting
END:VEVENT
BEGIN:VEVENT
DTSTART;TZID=UTC:20240327T190000
DTEND;TZID=UTC:20240327T190000
DTSTAMP:20260424T073107
CREATED:20240309T075550Z
LAST-MODIFIED:20240622T074550Z
UID:872-1711566000-1711566000@martinsvilleil.com
SUMMARY:City Council Meeting 03-27-24
DESCRIPTION:Join us at Martinsville City Hall for engaging city council meetings held on the 2nd and 4th Wednesdays of every month at 7pm (Central). Stay informed\, voice your opinions\, and shape the future of our community. \n03-27-24 Agenda.docx\n \nDon’t miss the opportunity to be part of the decision-making process. Mark your calendars and attend our upcoming city council meetings!
URL:https://martinsvilleil.com/event/city-council-meeting-03-27-24/
LOCATION:City Hall\, 55 W. Cumberland St.\, Martinsville\, Illinois\, 62442
CATEGORIES:City Council Meeting
END:VEVENT
BEGIN:VEVENT
DTSTART;TZID=UTC:20240320T180000
DTEND;TZID=UTC:20240320T180000
DTSTAMP:20260424T073107
CREATED:20240319T232500Z
LAST-MODIFIED:20240319T232500Z
UID:886-1710957600-1710957600@martinsvilleil.com
SUMMARY:Open Committee Meeting 03-20-24
DESCRIPTION:An open committee meeting will be held at Martinsville City Hall on Wednesday\, March 20\, to discuss the building of a new City warehouse and to discuss TIF District and subdivision. The meeting begins at 6pm. The public is invited and welcome to attend. [tta_listen_btn] \n03-20-24 Open Committee Agenda.docx
URL:https://martinsvilleil.com/event/open-committee-meeting-03-20-24/
LOCATION:City Hall\, 55 W. Cumberland St.\, Martinsville\, Illinois\, 62442
CATEGORIES:Committee Meeting
END:VEVENT
BEGIN:VEVENT
DTSTART;TZID=UTC:20240313T190000
DTEND;TZID=UTC:20240313T190000
DTSTAMP:20260424T073107
CREATED:20240309T075137Z
LAST-MODIFIED:20240622T074604Z
UID:867-1710356400-1710356400@martinsvilleil.com
SUMMARY:City Council Meeting 03-13-24
DESCRIPTION:Join us at Martinsville City Hall for engaging city council meetings held on the 2nd and 4th Wednesdays of every month at 7pm (Central). Stay informed\, voice your opinions\, and shape the future of our community. \n03-13-24 Agenda.docx\n \nDon’t miss the opportunity to be part of the decision-making process. Mark your calendars and attend our upcoming city council meetings!
URL:https://martinsvilleil.com/event/03-13-24/
LOCATION:City Hall\, 55 W. Cumberland St.\, Martinsville\, Illinois\, 62442
CATEGORIES:City Council Meeting
END:VEVENT
BEGIN:VEVENT
DTSTART;TZID=UTC:20240228T190000
DTEND;TZID=UTC:20240228T190000
DTSTAMP:20260424T073107
CREATED:20240107T025027Z
LAST-MODIFIED:20240226T205738Z
UID:692-1709146800-1709146800@martinsvilleil.com
SUMMARY:City Council Meeting
DESCRIPTION:Join us at Martinsville City Hall for engaging city council meetings held on the 2nd and 4th Wednesdays of every month at 7pm (Central). Stay informed\, voice your opinions\, and shape the future of our community. \n02-28-24 Agenda.docx\n \nDon’t miss the opportunity to be part of the decision-making process. Mark your calendars and attend our upcoming city council meetings!
URL:https://martinsvilleil.com/event/city-council-meeting-02-28-24/
LOCATION:City Hall\, 55 W. Cumberland St.\, Martinsville\, Illinois\, 62442
END:VEVENT
BEGIN:VEVENT
DTSTART;TZID=UTC:20240228T100000
DTEND;TZID=UTC:20240228T100000
DTSTAMP:20260424T073107
CREATED:20240226T210218Z
LAST-MODIFIED:20240226T210254Z
UID:848-1709114400-1709114400@martinsvilleil.com
SUMMARY:Utility Committee Meeting 02-28-24
DESCRIPTION:Utility Committee Meeting \n02-28-24 Utility Committee Agenda
URL:https://martinsvilleil.com/event/848/
LOCATION:City Hall\, 55 W. Cumberland St.\, Martinsville\, Illinois\, 62442
END:VEVENT
BEGIN:VEVENT
DTSTART;TZID=UTC:20240214T190000
DTEND;TZID=UTC:20240214T190000
DTSTAMP:20260424T073107
CREATED:20240107T024717Z
LAST-MODIFIED:20240213T032505Z
UID:690-1707937200-1707937200@martinsvilleil.com
SUMMARY:City Council Meeting
DESCRIPTION:02-14-24 Agenda\nJoin us at Martinsville City Hall for engaging city council meetings held on the 2nd and 4th Wednesdays of every month at 7pm (Central). Stay informed\, voice your opinions\, and shape the future of our community. \n \nDon’t miss the opportunity to be part of the decision-making process. Mark your calendars and attend our upcoming city council meetings!
URL:https://martinsvilleil.com/event/city-council-meeting-3/
LOCATION:City Hall\, 55 W. Cumberland St.\, Martinsville\, Illinois\, 62442
END:VEVENT
BEGIN:VEVENT
DTSTART;TZID=UTC:20240124T190000
DTEND;TZID=UTC:20240124T190000
DTSTAMP:20260424T073107
CREATED:20240107T024458Z
LAST-MODIFIED:20240122T195757Z
UID:688-1706122800-1706122800@martinsvilleil.com
SUMMARY:City Council Meeting
DESCRIPTION:01-24-24 Agenda\nJoin us at Martinsville City Hall for engaging city council meetings held on the 2nd and 4th Wednesdays of every month at 7pm (Central). Stay informed\, voice your opinions\, and shape the future of our community. \n \nDon’t miss the opportunity to be part of the decision-making process. Mark your calendars and attend our upcoming city council meetings! \n 
URL:https://martinsvilleil.com/event/city-council-meeting-2/
LOCATION:City Hall\, 55 W. Cumberland St.\, Martinsville\, Illinois\, 62442
CATEGORIES:City Council Meeting
END:VEVENT
BEGIN:VEVENT
DTSTART;TZID=UTC:20240110T190000
DTEND;TZID=UTC:20240110T190000
DTSTAMP:20260424T073107
CREATED:20240107T024237Z
LAST-MODIFIED:20240108T194707Z
UID:686-1704913200-1704913200@martinsvilleil.com
SUMMARY:City Council Meeting
DESCRIPTION:01-10-24 Agenda\nJoin us at Martinsville City Hall for engaging city council meetings held on the 2nd and 4th Wednesdays of every month at 7pm (Central). Stay informed\, voice your opinions\, and shape the future of our community. \n \nDon’t miss the opportunity to be part of the decision-making process. Mark your calendars and attend our upcoming city council meetings!
URL:https://martinsvilleil.com/event/city-council-meeting-01-10-24/
LOCATION:City Hall\, 55 W. Cumberland St.\, Martinsville\, Illinois\, 62442
CATEGORIES:City Council Meeting
END:VEVENT
BEGIN:VEVENT
DTSTART;TZID=UTC:20231227T190000
DTEND;TZID=UTC:20231227T190000
DTSTAMP:20260424T073107
CREATED:20230529T010459Z
LAST-MODIFIED:20231227T032656Z
UID:189-1703703600-1703703600@martinsvilleil.com
SUMMARY:City Council Meeting
DESCRIPTION:The Martinsville City Council meeting scheduled for Wednesday\, December 27 has been cancelled. The next regular meeting will be held on Wednesday\, January 10 starting at 7pm at Martinsville City Hall\, 55 W. Cumberland Street\, Martinsville.
URL:https://martinsvilleil.com/event/city-council-meeting-12-27-2023/
LOCATION:City Hall\, 55 W. Cumberland St.\, Martinsville\, Illinois\, 62442
CATEGORIES:City Council Meeting
END:VEVENT
BEGIN:VEVENT
DTSTART;TZID=UTC:20231213T190000
DTEND;TZID=UTC:20231213T190000
DTSTAMP:20260424T073107
CREATED:20230529T010325Z
LAST-MODIFIED:20231211T230915Z
UID:187-1702494000-1702494000@martinsvilleil.com
SUMMARY:City Council Meeting
DESCRIPTION:12-13-23 Agenda\nJoin us at Martinsville City Hall for engaging city council meetings held on the 2nd and 4th Wednesdays of every month at 7pm (Central). Stay informed\, voice your opinions\, and shape the future of our community. \n \nDon’t miss the opportunity to be part of the decision-making process. Mark your calendars and attend our upcoming city council meetings!
URL:https://martinsvilleil.com/event/city-council-meeting-12-13-2023/
LOCATION:City Hall\, 55 W. Cumberland St.\, Martinsville\, Illinois\, 62442
CATEGORIES:City Council Meeting
END:VEVENT
BEGIN:VEVENT
DTSTART;TZID=UTC:20231122T190000
DTEND;TZID=UTC:20231122T190000
DTSTAMP:20260424T073107
CREATED:20230529T005912Z
LAST-MODIFIED:20230529T010657Z
UID:185-1700679600-1700679600@martinsvilleil.com
SUMMARY:City Council Meeting
DESCRIPTION:Join us at Martinsville City Hall for engaging city council meetings held on the 2nd and 4th Wednesdays of every month at 7pm (Central). Stay informed\, voice your opinions\, and shape the future of our community. \n \nDon’t miss the opportunity to be part of the decision-making process. Mark your calendars and attend our upcoming city council meetings!
URL:https://martinsvilleil.com/event/city-council-meeting-11-22-2023/
LOCATION:City Hall\, 55 W. Cumberland St.\, Martinsville\, Illinois\, 62442
CATEGORIES:City Council Meeting
END:VEVENT
BEGIN:VEVENT
DTSTART;TZID=UTC:20231108T190000
DTEND;TZID=UTC:20231108T190000
DTSTAMP:20260424T073107
CREATED:20230529T000522Z
LAST-MODIFIED:20231107T063726Z
UID:169-1699470000-1699470000@martinsvilleil.com
SUMMARY:City Council Meeting
DESCRIPTION:11-8-23 Agenda.docx\nJoin us at Martinsville City Hall for engaging city council meetings held on the 2nd and 4th Wednesdays of every month at 7pm (Central). Stay informed\, voice your opinions\, and shape the future of our community. \n \nDon’t miss the opportunity to be part of the decision-making process. Mark your calendars and attend our upcoming city council meetings!
URL:https://martinsvilleil.com/event/city-council-meeting-11-08-2023/
LOCATION:City Hall\, 55 W. Cumberland St.\, Martinsville\, Illinois\, 62442
CATEGORIES:City Council Meeting
END:VEVENT
BEGIN:VEVENT
DTSTART;TZID=UTC:20231027T170000
DTEND;TZID=UTC:20231027T190000
DTSTAMP:20260424T073107
CREATED:20230929T234847Z
LAST-MODIFIED:20230929T234847Z
UID:630-1698426000-1698433200@martinsvilleil.com
SUMMARY:Trick or Treat
DESCRIPTION:🎃👻 Join Us for a Spooktacular Evening in Martinsville! 👻🎃 \nMark your calendars\, because the City of Martinsville is gearing up for a fang-tastic Halloween celebration! On Friday\, October 27th\, from 5:00 PM to 7:00 PM\, we invite families and ghouls of all ages to participate in our beloved Trick-or-Treat event. Get ready to don your most creative costumes and embark on a candy-filled adventure through our charming city streets. \n🏡🍬 Trick-or-Treat Details:\n📅 Date: Friday\, October 27\, 2023\n⏰ Time: 5:00 PM – 7:00 PM\n📍 Location: Throughout the City of Martinsville \nBut wait\, there’s more! In addition to traditional Trick-or-Treating\, we’re thrilled to announce an exciting addition to this year’s festivities – the Trunk-or-Treat extravaganza! Businesses\, groups\, and individuals are invited to set up their Halloween-themed trunks and treats along Cumberland Street between Washington Street and Union Street during the same hours as Trick-or-Treat. \n🚗🎃 Trunk-or-Treat Details:\n📅 Date: Friday\, October 27\, 2023\n⏰ Time: 5:00 PM – 7:00 PM\n📍 Location: Cumberland Street (Between Washington Street and Union Street) \nThis is a fantastic opportunity for our local community to come together\, showcase their creativity\, and provide a safe and fun environment for our little ghosts and goblins. Whether you’re a business looking to promote your services\, a group with a spooky theme\, or an individual with a passion for Halloween\, we welcome you to join in the Trunk-or-Treat festivities. \nSo\, gather your family and friends\, prepare your best costumes\, and bring your sweet tooth because Martinsville’s Trick-or-Treat and Trunk-or-Treat event promises an evening of laughter\, candy\, and unforgettable memories. We can’t wait to see you there! \nLet’s make this Halloween a spooktacular one in the heart of Martinsville! 🎃👻🍭 #MartinsvilleHalloween #TrickOrTreat #TrunkOrTreat #CommunityFun
URL:https://martinsvilleil.com/event/trick-or-treat/
LOCATION:Martinsville\, Martinsville\, IL\, 62442\, United States
END:VEVENT
BEGIN:VEVENT
DTSTART;TZID=UTC:20231025T184500
DTEND;TZID=UTC:20231025T184500
DTSTAMP:20260424T073107
CREATED:20230529T000237Z
LAST-MODIFIED:20231025T052242Z
UID:167-1698259500-1698259500@martinsvilleil.com
SUMMARY:City Council Meeting
DESCRIPTION:A public hearing will be held starting at 6:45 pm to close out the housing grant. \nAgenda 10-25-23\nJoin us at Martinsville City Hall for engaging city council meetings held on the 2nd and 4th Wednesdays of every month at 7pm (Central). \nStay informed\, voice your opinions\, and shape the future of our community. \n \nDon’t miss the opportunity to be part of the decision-making process. Mark your calendars and attend our upcoming city council meetings!
URL:https://martinsvilleil.com/event/city-council-meeting-10-25-2023/
LOCATION:City Hall\, 55 W. Cumberland St.\, Martinsville\, Illinois\, 62442
CATEGORIES:City Council Meeting
END:VEVENT
BEGIN:VEVENT
DTSTART;TZID=UTC:20231011T190000
DTEND;TZID=UTC:20231011T190000
DTSTAMP:20260424T073107
CREATED:20230529T000134Z
LAST-MODIFIED:20231010T071659Z
UID:165-1697050800-1697050800@martinsvilleil.com
SUMMARY:City Council Meeting
DESCRIPTION:City Council Meetings are held on the 2nd and 4th Wednesdays of each month at 7pm (Central) – At City Hall 55 W Cumberland St.\, Martinsville\, Illinois 62442. \n10-11-23 Agenda.docx
URL:https://martinsvilleil.com/event/city-council-meeting/
LOCATION:City Hall\, 55 W. Cumberland St.\, Martinsville\, Illinois\, 62442
CATEGORIES:City Council Meeting
END:VEVENT
BEGIN:VEVENT
DTSTART;TZID=UTC:20230927T180000
DTEND;TZID=UTC:20230927T203000
DTSTAMP:20260424T073107
CREATED:20230528T235239Z
LAST-MODIFIED:20230926T061236Z
UID:163-1695837600-1695846600@martinsvilleil.com
SUMMARY:City Council Meeting
DESCRIPTION:9-27-23 Agenda 1.docx\n9-27-23 Agenda.docx\n  \nJoin us at Martinsville City Hall for engaging city council meetings held on the 2nd and 4th Wednesdays of every month at 7pm (Central). Stay informed\, voice your opinions\, and shape the future of our community. \nDon’t miss the opportunity to be part of the decision-making process. Mark your calendars and attend our upcoming city council meetings!
URL:https://martinsvilleil.com/event/city-council-meeting-09-27-2023/
LOCATION:City Hall\, 55 W. Cumberland St.\, Martinsville\, Illinois\, 62442
CATEGORIES:City Council Meeting
END:VEVENT
BEGIN:VEVENT
DTSTART;TZID=UTC:20230913T190000
DTEND;TZID=UTC:20230913T190000
DTSTAMP:20260424T073107
CREATED:20230528T060158Z
LAST-MODIFIED:20230909T233846Z
UID:146-1694631600-1694631600@martinsvilleil.com
SUMMARY:City Council Meeting
DESCRIPTION:Join us at Martinsville City Hall for engaging city council meetings held on the 2nd and 4th Wednesdays of every month at 7pm (Central). Stay informed\, voice your opinions\, and shape the future of our community. \nAgenda 09-13-23\nDon’t miss the opportunity to be part of the decision-making process. Mark your calendars and attend our upcoming city council meetings!
URL:https://martinsvilleil.com/event/city-council-meeting-09-13-2023/
LOCATION:City Hall\, 55 W. Cumberland St.\, Martinsville\, Illinois\, 62442
CATEGORIES:City Council Meeting
END:VEVENT
BEGIN:VEVENT
DTSTART;TZID=UTC:20230909T190000
DTEND;TZID=UTC:20230909T210000
DTSTAMP:20260424T073107
CREATED:20230604T032333Z
LAST-MODIFIED:20230604T032333Z
UID:312-1694286000-1694293200@martinsvilleil.com
SUMMARY:Scott Wattles and the Blue Suede Crew @ Linn Park
DESCRIPTION:Bring your lawn chair or blanket and enjoy an evening of live music at Linn Park Amphitheater with Scott Wattles and the Blue Suede Crew! \nThe concessions stand will be open beginning at 6pm. \nMusic starts at 7pm. \nEvent sponsored by Martinsville on the Move.
URL:https://martinsvilleil.com/event/scott-wattles-and-the-blue-suede-crew-linn-park-09-09-2023/
LOCATION:Linn Park Amphitheater\, 14 N. Mill Street\, Martinsville\, Illinois\, 62442
CATEGORIES:Linn Park Gatherings
END:VEVENT
BEGIN:VEVENT
DTSTART;TZID=UTC:20230826T190000
DTEND;TZID=UTC:20230826T210000
DTSTAMP:20260424T073107
CREATED:20230604T031707Z
LAST-MODIFIED:20230604T031730Z
UID:310-1693076400-1693083600@martinsvilleil.com
SUMMARY:Battle Creek @ Linn Park
DESCRIPTION:Bring your lawn chair or blanket and enjoy an evening of live music at Linn Park Amphitheater with Battle Creek! \nThe concessions stand will be open beginning at 6pm. \nMusic starts at 7pm. \nEvent sponsored by Martinsville on the Move.
URL:https://martinsvilleil.com/event/battle-creek-linn-park-08-26-2023/
LOCATION:Linn Park Amphitheater\, 14 N. Mill Street\, Martinsville\, Illinois\, 62442
CATEGORIES:Linn Park Gatherings
END:VEVENT
BEGIN:VEVENT
DTSTART;TZID=UTC:20230823T190000
DTEND;TZID=UTC:20230823T190000
DTSTAMP:20260424T073107
CREATED:20230528T233018Z
LAST-MODIFIED:20230822T185504Z
UID:160-1692817200-1692817200@martinsvilleil.com
SUMMARY:City Council Meeting
DESCRIPTION:City Council meetings are held on the 2nd and 4th Wednesdays of each month at 7pm (Central) – At City Hall 55 W Cumberland St.\, Martinsville\, Illinois 62442. \nStay informed\, voice your opinions\, and shape the future of our community. \nDon’t miss the opportunity to be part of the decision-making process. \nMark your calendar and attend our upcoming city council meetings! \n  \ndoc00908720230821161840
URL:https://martinsvilleil.com/event/city-council-meeting-08-23-2023/
LOCATION:City Hall\, 55 W. Cumberland St.\, Martinsville\, Illinois\, 62442
CATEGORIES:City Council Meeting
END:VEVENT
BEGIN:VEVENT
DTSTART;TZID=UTC:20230809T190000
DTEND;TZID=UTC:20230809T190000
DTSTAMP:20260424T073107
CREATED:20230528T055940Z
LAST-MODIFIED:20230808T212714Z
UID:144-1691607600-1691607600@martinsvilleil.com
SUMMARY:City Council Meeting
DESCRIPTION:Join us at Martinsville City Hall for engaging city council meetings held on the 2nd and 4th Wednesdays of every month at 7pm (Central). Stay informed\, voice your opinions\, and shape the future of our community. \n  \nDon’t miss the opportunity to be part of the decision-making process. Mark your calendars and attend our upcoming city council meetings! \n8-9-23 committee meeting agenda\n8-9-23 agenda\n  \n 
URL:https://martinsvilleil.com/event/city-council-meeting-08-09-2023/
LOCATION:Illinois
CATEGORIES:City Council Meeting
END:VEVENT
BEGIN:VEVENT
DTSTART;TZID=UTC:20230805T190000
DTEND;TZID=UTC:20230805T210000
DTSTAMP:20260424T073108
CREATED:20230604T031045Z
LAST-MODIFIED:20230604T031112Z
UID:306-1691262000-1691269200@martinsvilleil.com
SUMMARY:Trouble & Company @ Linn Park
DESCRIPTION:Bring your lawn chair or blanket and enjoy an evening of live music at Linn Park Amphitheater with local band Trouble & Company! \nThe concessions stand will be open beginning at 6pm. \nMusic starts at 7pm. \nEvent sponsored by Martinsville on the Move. \n 
URL:https://martinsvilleil.com/event/trouble-company-linn-park-08-05-2023/
LOCATION:Linn Park Amphitheater\, 14 N. Mill Street\, Martinsville\, Illinois\, 62442
CATEGORIES:Linn Park Gatherings
END:VEVENT
BEGIN:VEVENT
DTSTART;TZID=UTC:20230726T190000
DTEND;TZID=UTC:20230726T190000
DTSTAMP:20260424T073108
CREATED:20230528T055820Z
LAST-MODIFIED:20230725T191137Z
UID:142-1690398000-1690398000@martinsvilleil.com
SUMMARY:City Council Meeting
DESCRIPTION:Join us at Martinsville City Hall for engaging city council meetings held on the 2nd and 4th Wednesdays of every month at 7pm (Central). Stay informed\, voice your opinions\, and shape the future of our community. \nAgenda 7-26.docx\n \nDon’t miss the opportunity to be part of the decision-making process. Mark your calendars and attend our upcoming city council meetings!
URL:https://martinsvilleil.com/event/city-council-meeting-07-26-2023/
LOCATION:City Hall\, 55 W. Cumberland St.\, Martinsville\, Illinois\, 62442
CATEGORIES:City Council Meeting
END:VEVENT
END:VCALENDAR