BEGIN:VCALENDAR
VERSION:2.0
PRODID:-//City of Martinsville, Illinois - ECPv6.15.20//NONSGML v1.0//EN
CALSCALE:GREGORIAN
METHOD:PUBLISH
X-ORIGINAL-URL:https://martinsvilleil.com
X-WR-CALDESC:Events for City of Martinsville, Illinois
REFRESH-INTERVAL;VALUE=DURATION:PT1H
X-Robots-Tag:noindex
X-PUBLISHED-TTL:PT1H
BEGIN:VTIMEZONE
TZID:America/Chicago
BEGIN:DAYLIGHT
TZOFFSETFROM:-0600
TZOFFSETTO:-0500
TZNAME:CDT
DTSTART:20250309T080000
END:DAYLIGHT
BEGIN:STANDARD
TZOFFSETFROM:-0500
TZOFFSETTO:-0600
TZNAME:CST
DTSTART:20251102T070000
END:STANDARD
BEGIN:DAYLIGHT
TZOFFSETFROM:-0600
TZOFFSETTO:-0500
TZNAME:CDT
DTSTART:20260308T080000
END:DAYLIGHT
BEGIN:STANDARD
TZOFFSETFROM:-0500
TZOFFSETTO:-0600
TZNAME:CST
DTSTART:20261101T070000
END:STANDARD
BEGIN:DAYLIGHT
TZOFFSETFROM:-0600
TZOFFSETTO:-0500
TZNAME:CDT
DTSTART:20270314T080000
END:DAYLIGHT
BEGIN:STANDARD
TZOFFSETFROM:-0500
TZOFFSETTO:-0600
TZNAME:CST
DTSTART:20271107T070000
END:STANDARD
END:VTIMEZONE
BEGIN:VEVENT
DTSTART;VALUE=DATE:20260411
DTEND;VALUE=DATE:20260419
DTSTAMP:20260423T162200
CREATED:20260316T194150Z
LAST-MODIFIED:20260316T195558Z
UID:21903-1775865600-1776556799@martinsvilleil.com
SUMMARY:2026 Citywide Spring Cleanup
DESCRIPTION:2026 Citywide Spring Cleanup: April 11-18
URL:https://martinsvilleil.com/event/2026-citywide-spring-cleanup/
LOCATION:Martinsville Public Works Building\, 100 Hilltop Drive\, Martinsville\, IL\, 62442\, United States
CATEGORIES:Citywide Cleanup
END:VEVENT
BEGIN:VEVENT
DTSTART;TZID=America/Chicago:20260417T183000
DTEND;TZID=America/Chicago:20260417T193000
DTSTAMP:20260423T162200
CREATED:20260330T161643Z
LAST-MODIFIED:20260330T202252Z
UID:22097-1776450600-1776454200@martinsvilleil.com
SUMMARY:Martinsville Chamber of Commerce Annual Dinner Banquet
DESCRIPTION:The Martinsville Chamber of Commerce will hold its Annual Dinner Banquet on April 17\, 2026. \nThe Chamber will recognize a volunteer\, organization\, and business from the 2025 fiscal year. \nNomination forms are available at area businesses and City Hall and must be returned to City Hall or emailed to city@martinsvilleil.com by April 6\, 2026.Note: Some forms list an April 3 deadline; due to City Hall closures\, submissions will be accepted through April 6. \nDinner cost is $11. Annual Chamber membership dues ($25) will be collected at the door. \nPlease RSVP by April 10.
URL:https://martinsvilleil.com/event/martinsville-chamber-dinner-2026/
LOCATION:Martinsville Community Center\, 122 W. Cumberland St\, Martinsville\, IL\, 62442\, United States
CATEGORIES:Chamber of Commerce
END:VEVENT
BEGIN:VEVENT
DTSTART;TZID=America/Chicago:20260422T190000
DTEND;TZID=America/Chicago:20260422T200000
DTSTAMP:20260423T162200
CREATED:20260303T232454Z
LAST-MODIFIED:20260420T224936Z
UID:21436-1776884400-1776888000@martinsvilleil.com
SUMMARY:City Council Regular Meeting - April 22\, 2026
DESCRIPTION:Join us at Martinsville City Hall for our regular City Council meetings held on the second and fourth Wednesdays of every month at 7pm (Central). Stay informed\, voice your opinions\, and shape the future of our community. \n04-22-2026 Agenda\n \nDon’t miss the opportunity to be part of the decision-making process. Mark your calendars and attend our upcoming city council meeting!
URL:https://martinsvilleil.com/event/city-council-regular-meeting-april-22-2026/
LOCATION:City Hall\, 55 W. Cumberland St.\, Martinsville\, Illinois\, 62442
CATEGORIES:City Council Meeting
END:VEVENT
BEGIN:VEVENT
DTSTART;TZID=America/Chicago:20260505T180000
DTEND;TZID=America/Chicago:20260505T190000
DTSTAMP:20260423T162200
CREATED:20260313T155527Z
LAST-MODIFIED:20260313T181902Z
UID:21494-1778004000-1778007600@martinsvilleil.com
SUMMARY:MFPD Board of Trustees Meeting - May 5\, 2026
DESCRIPTION:Martinsville Fire Protection District Trustee Meeting
URL:https://martinsvilleil.com/event/mfpd-board-of-trustees-meeting-may-5-2026/
LOCATION:Martinsville Fire Department\, 8 Union St.\, Martinsville\, IL\, 62442\, United States
CATEGORIES:MFPD Board of Trustees Meeting
END:VEVENT
BEGIN:VEVENT
DTSTART;TZID=America/Chicago:20260602T180000
DTEND;TZID=America/Chicago:20260602T190000
DTSTAMP:20260423T162200
CREATED:20260313T160056Z
LAST-MODIFIED:20260313T160056Z
UID:21498-1780423200-1780426800@martinsvilleil.com
SUMMARY:MFPD Board of Trustees Meeting – June 2\, 2026
DESCRIPTION:Martinsville Fire Protection District Trustee Meeting
URL:https://martinsvilleil.com/event/mfpd-board-of-trustees-meeting-june-2-2026/
LOCATION:Martinsville Fire Department\, 8 Union St.\, Martinsville\, IL\, 62442\, United States
CATEGORIES:MFPD Board of Trustees Meeting
END:VEVENT
BEGIN:VEVENT
DTSTART;TZID=America/Chicago:20260707T180000
DTEND;TZID=America/Chicago:20260707T190000
DTSTAMP:20260423T162200
CREATED:20260313T160313Z
LAST-MODIFIED:20260313T160313Z
UID:21500-1783447200-1783450800@martinsvilleil.com
SUMMARY:MFPD Board of Trustees Meeting – July 7\, 2026
DESCRIPTION:Martinsville Fire Protection District Trustee Meeting
URL:https://martinsvilleil.com/event/mfpd-board-of-trustees-meeting-july-7-2026/
LOCATION:Martinsville Fire Department\, 8 Union St.\, Martinsville\, IL\, 62442\, United States
CATEGORIES:MFPD Board of Trustees Meeting
END:VEVENT
BEGIN:VEVENT
DTSTART;TZID=America/Chicago:20260804T180000
DTEND;TZID=America/Chicago:20260804T190000
DTSTAMP:20260423T162200
CREATED:20260313T160644Z
LAST-MODIFIED:20260313T161223Z
UID:21502-1785866400-1785870000@martinsvilleil.com
SUMMARY:MFPD Board of Trustees Meeting – August 4\, 2026
DESCRIPTION:Martinsville Fire Protection District Trustee Meeting
URL:https://martinsvilleil.com/event/mfpd-board-of-trustees-meeting-august-4-2026/
LOCATION:Martinsville Fire Department\, 8 Union St.\, Martinsville\, IL\, 62442\, United States
CATEGORIES:MFPD Board of Trustees Meeting
END:VEVENT
END:VCALENDAR