BEGIN:VCALENDAR
VERSION:2.0
PRODID:-//City of Martinsville, Illinois - ECPv6.15.20//NONSGML v1.0//EN
CALSCALE:GREGORIAN
METHOD:PUBLISH
X-WR-CALNAME:City of Martinsville, Illinois
X-ORIGINAL-URL:https://martinsvilleil.com
X-WR-CALDESC:Events for City of Martinsville, Illinois
REFRESH-INTERVAL;VALUE=DURATION:PT1H
X-Robots-Tag:noindex
X-PUBLISHED-TTL:PT1H
BEGIN:VTIMEZONE
TZID:America/Chicago
BEGIN:DAYLIGHT
TZOFFSETFROM:-0600
TZOFFSETTO:-0500
TZNAME:CDT
DTSTART:20240310T080000
END:DAYLIGHT
BEGIN:STANDARD
TZOFFSETFROM:-0500
TZOFFSETTO:-0600
TZNAME:CST
DTSTART:20241103T070000
END:STANDARD
BEGIN:DAYLIGHT
TZOFFSETFROM:-0600
TZOFFSETTO:-0500
TZNAME:CDT
DTSTART:20250309T080000
END:DAYLIGHT
BEGIN:STANDARD
TZOFFSETFROM:-0500
TZOFFSETTO:-0600
TZNAME:CST
DTSTART:20251102T070000
END:STANDARD
BEGIN:DAYLIGHT
TZOFFSETFROM:-0600
TZOFFSETTO:-0500
TZNAME:CDT
DTSTART:20260308T080000
END:DAYLIGHT
BEGIN:STANDARD
TZOFFSETFROM:-0500
TZOFFSETTO:-0600
TZNAME:CST
DTSTART:20261101T070000
END:STANDARD
END:VTIMEZONE
BEGIN:VTIMEZONE
TZID:UTC
BEGIN:STANDARD
TZOFFSETFROM:+0000
TZOFFSETTO:+0000
TZNAME:UTC
DTSTART:20220101T000000
END:STANDARD
END:VTIMEZONE
BEGIN:VEVENT
DTSTART;TZID=America/Chicago:20250621T190000
DTEND;TZID=America/Chicago:20250621T200000
DTSTAMP:20260423T183523
CREATED:20250619T014806Z
LAST-MODIFIED:20250619T015537Z
UID:12271-1750532400-1750536000@martinsvilleil.com
SUMMARY:Linn Park Gatherings presents Trouble & Company
DESCRIPTION:Trouble & Company will perform live at Linn Park Amphitheater on Saturday\, June 21\, starting at 7pm. \nTrouble & Company is a popular band from Martinsville\, Illinois\, known for their wide range of musical styles and energetic performances. The band members are Joe Nave\, Chris Perry\, and Laif Burns\, all Martinsville High School alumni\, who have been singing together for over 20 years. \nThey perform music from the 1950s\, 1960s\, 1970s\, and today’s country music. The band has a strong connection to the Martinsville Agricultural Fair\, where they got their start in talent shows. They have also represented the fair at the State Fair\, achieving a top 4 placement. \nLinn Park Gatherings are sponsored by Martinsville on the Move. \nBring lawn chairs or blankets. A Free Will Offering will be taken at each event.\nLinn Park Concessions (and possibly others) will have food for purchase at all events\, beginning at 6pm. \n 
URL:https://martinsvilleil.com/event/trouble_and_company/
LOCATION:Linn Park Amphitheater\, 14 N. Mill Street\, Martinsville\, Illinois\, 62442
CATEGORIES:Linn Park Gatherings
END:VEVENT
BEGIN:VEVENT
DTSTART;TZID=UTC:20230909T190000
DTEND;TZID=UTC:20230909T210000
DTSTAMP:20260423T183523
CREATED:20230604T032333Z
LAST-MODIFIED:20230604T032333Z
UID:312-1694286000-1694293200@martinsvilleil.com
SUMMARY:Scott Wattles and the Blue Suede Crew @ Linn Park
DESCRIPTION:Bring your lawn chair or blanket and enjoy an evening of live music at Linn Park Amphitheater with Scott Wattles and the Blue Suede Crew! \nThe concessions stand will be open beginning at 6pm. \nMusic starts at 7pm. \nEvent sponsored by Martinsville on the Move.
URL:https://martinsvilleil.com/event/scott-wattles-and-the-blue-suede-crew-linn-park-09-09-2023/
LOCATION:Linn Park Amphitheater\, 14 N. Mill Street\, Martinsville\, Illinois\, 62442
CATEGORIES:Linn Park Gatherings
END:VEVENT
BEGIN:VEVENT
DTSTART;TZID=UTC:20230826T190000
DTEND;TZID=UTC:20230826T210000
DTSTAMP:20260423T183523
CREATED:20230604T031707Z
LAST-MODIFIED:20230604T031730Z
UID:310-1693076400-1693083600@martinsvilleil.com
SUMMARY:Battle Creek @ Linn Park
DESCRIPTION:Bring your lawn chair or blanket and enjoy an evening of live music at Linn Park Amphitheater with Battle Creek! \nThe concessions stand will be open beginning at 6pm. \nMusic starts at 7pm. \nEvent sponsored by Martinsville on the Move.
URL:https://martinsvilleil.com/event/battle-creek-linn-park-08-26-2023/
LOCATION:Linn Park Amphitheater\, 14 N. Mill Street\, Martinsville\, Illinois\, 62442
CATEGORIES:Linn Park Gatherings
END:VEVENT
BEGIN:VEVENT
DTSTART;TZID=UTC:20230805T190000
DTEND;TZID=UTC:20230805T210000
DTSTAMP:20260423T183523
CREATED:20230604T031045Z
LAST-MODIFIED:20230604T031112Z
UID:306-1691262000-1691269200@martinsvilleil.com
SUMMARY:Trouble & Company @ Linn Park
DESCRIPTION:Bring your lawn chair or blanket and enjoy an evening of live music at Linn Park Amphitheater with local band Trouble & Company! \nThe concessions stand will be open beginning at 6pm. \nMusic starts at 7pm. \nEvent sponsored by Martinsville on the Move. \n 
URL:https://martinsvilleil.com/event/trouble-company-linn-park-08-05-2023/
LOCATION:Linn Park Amphitheater\, 14 N. Mill Street\, Martinsville\, Illinois\, 62442
CATEGORIES:Linn Park Gatherings
END:VEVENT
BEGIN:VEVENT
DTSTART;TZID=UTC:20230722T190000
DTEND;TZID=UTC:20230722T210000
DTSTAMP:20260423T183523
CREATED:20230604T030711Z
LAST-MODIFIED:20230604T030711Z
UID:304-1690052400-1690059600@martinsvilleil.com
SUMMARY:Stones Crossing @ Linn Park
DESCRIPTION:Bring your lawn chair or blanket and enjoy an evening of live music at Linn Park Amphitheater with Stones Crossing! \nThe concessions stand will be open beginning at 6pm. \nMusic starts at 7pm. \nEvent sponsored by Martinsville on the Move.
URL:https://martinsvilleil.com/event/stones-crossing-linn-park/
LOCATION:Linn Park Amphitheater\, 14 N. Mill Street\, Martinsville\, Illinois\, 62442
CATEGORIES:Linn Park Gatherings
END:VEVENT
BEGIN:VEVENT
DTSTART;TZID=UTC:20230708T190000
DTEND;TZID=UTC:20230708T210000
DTSTAMP:20260423T183523
CREATED:20230604T030409Z
LAST-MODIFIED:20230604T030409Z
UID:302-1688842800-1688850000@martinsvilleil.com
SUMMARY:Mackville @ Linn Park
DESCRIPTION:Bring your lawn chair or blanket and enjoy an evening of live music at Linn Park Amphitheater with Mackville! \nThe concessions stand will be open beginning at 6pm. \nMusic starts at 7pm. \nEvent sponsored by Martinsville on the Move.
URL:https://martinsvilleil.com/event/mackville-linn-park/
LOCATION:Linn Park Amphitheater\, 14 N. Mill Street\, Martinsville\, Illinois\, 62442
CATEGORIES:Linn Park Gatherings
END:VEVENT
BEGIN:VEVENT
DTSTART;TZID=UTC:20230617T190000
DTEND;TZID=UTC:20230617T210000
DTSTAMP:20260423T183523
CREATED:20230604T030025Z
LAST-MODIFIED:20230615T095237Z
UID:299-1687028400-1687035600@martinsvilleil.com
SUMMARY:Creole Stomp @ Linn Park
DESCRIPTION:Bring your lawn chair or blanket and enjoy an evening of live music at Linn Park Amphitheater with Creole Stomp! \nThis week’s Linn Park Gathering in Martinsville will feature Creole Stomp\, led by Creole fiddler and accordionist\, Dennis Stroughmatt. Creole Stomp has performed for audiences across North American since 2002. \nTheir shows have become legendary for the heart and passion conveyed from the stage; their music\, filled with emotion and energy\, literally jumps from the band. Creole Stomp is often informally known as “The Grateful Dead of Creole Music.” They will perform a variety of contemporary blues\, swamp pop and traditional Cajun tunes. It has been said that their expert musicianship is matched by their showmanship and enthusiasm for the culture and tradition they represent. \nThis high energy evening is one you won’t want to miss. The Creole Stomp concert will appeal to all ages and is sure to be one of your favorite Gatherings of the year. Bring your lawn chair to Linn Park (1 block East of downtown Martinsville on Saturday\, June 17 and enjoy the FREE Creole Stomp concert\, starting at 7:00 p.m. Food will be available for purchase\, starting at 6:00 p.m. \nCreole Stomp\nThe concessions stand will be open beginning at 6pm. Music starts at 7pm. \nEvent sponsored by Martinsville on the Move.
URL:https://martinsvilleil.com/event/creole-stomp-06-17-2023/
LOCATION:Linn Park Amphitheater\, 14 N. Mill Street\, Martinsville\, Illinois\, 62442
CATEGORIES:Linn Park Gatherings
END:VEVENT
BEGIN:VEVENT
DTSTART;TZID=UTC:20230603T190000
DTEND;TZID=UTC:20230603T210000
DTSTAMP:20260423T183523
CREATED:20230604T025610Z
LAST-MODIFIED:20230604T025610Z
UID:294-1685818800-1685826000@martinsvilleil.com
SUMMARY:Less Is More @ Linn Park
DESCRIPTION:Bring your lawn chair or blanket and enjoy an evening of live music at Linn Park Amphitheater with local band Less Is More! \nThe concessions stand will be open beginning at 6pm. \nMusic starts at 7pm. \nEvent sponsored by Martinsville on the Move.
URL:https://martinsvilleil.com/event/less-is-more-06-03-2023/
LOCATION:Linn Park Amphitheater\, 14 N. Mill Street\, Martinsville\, Illinois\, 62442
CATEGORIES:Linn Park Gatherings
END:VEVENT
END:VCALENDAR