BEGIN:VCALENDAR
VERSION:2.0
PRODID:-//City of Martinsville, Illinois - ECPv6.15.20//NONSGML v1.0//EN
CALSCALE:GREGORIAN
METHOD:PUBLISH
X-ORIGINAL-URL:https://martinsvilleil.com
X-WR-CALDESC:Events for City of Martinsville, Illinois
REFRESH-INTERVAL;VALUE=DURATION:PT1H
X-Robots-Tag:noindex
X-PUBLISHED-TTL:PT1H
BEGIN:VTIMEZONE
TZID:UTC
BEGIN:STANDARD
TZOFFSETFROM:+0000
TZOFFSETTO:+0000
TZNAME:UTC
DTSTART:20230101T000000
END:STANDARD
END:VTIMEZONE
BEGIN:VEVENT
DTSTART;TZID=UTC:20250603T183000
DTEND;TZID=UTC:20250603T190000
DTSTAMP:20260425T062759
CREATED:20250603T092059Z
LAST-MODIFIED:20250603T092059Z
UID:12195-1748975400-1748977200@martinsvilleil.com
SUMMARY:June 4\, 2015 - Parks Committee Meeting
DESCRIPTION:A meeting of the Parks Committee will be held at 6:30p.m. on Wednesday\, June 4 at City Hall in Martinsville. \n06-04-2025 Parks Committee Agenda
URL:https://martinsvilleil.com/event/june-4-2015-parks-committee-meeting/
LOCATION:City Hall\, 55 W. Cumberland St.\, Martinsville\, Illinois\, 62442
CATEGORIES:Committee Meeting
END:VEVENT
BEGIN:VEVENT
DTSTART;TZID=UTC:20250514T180000
DTEND;TZID=UTC:20250514T190000
DTSTAMP:20260425T062759
CREATED:20250513T031512Z
LAST-MODIFIED:20250513T031718Z
UID:12035-1747245600-1747249200@martinsvilleil.com
SUMMARY:Budget & Finance Committee Meeting - May 14\, 2025
DESCRIPTION:The Budget & Finance Committee will hold a meeting at 6 p.m. on Wednesday\, May 14\, 2025. \n05-14-2025 Budget & Finance Committee Meeting\n \n 
URL:https://martinsvilleil.com/event/budget-finance-committee-meeting-may-14-2025/
LOCATION:City Hall\, 55 W. Cumberland St.\, Martinsville\, Illinois\, 62442
CATEGORIES:Committee Meeting
END:VEVENT
BEGIN:VEVENT
DTSTART;TZID=UTC:20250415T171500
DTEND;TZID=UTC:20250415T174500
DTSTAMP:20260425T062759
CREATED:20250414T043947Z
LAST-MODIFIED:20250414T044131Z
UID:11856-1744737300-1744739100@martinsvilleil.com
SUMMARY:Budget & Finance Committee Meeting 04-15-25
DESCRIPTION:A Budget & Finance Committee meeting will be held on Tuesday\, April 15\, at 5:15 pm at Martinsville City Hall. \n04-15-25 Budget and Finance Meeting\n \n 
URL:https://martinsvilleil.com/event/11856/
LOCATION:City Hall\, 55 W. Cumberland St.\, Martinsville\, Illinois\, 62442
CATEGORIES:Committee Meeting
END:VEVENT
BEGIN:VEVENT
DTSTART;TZID=UTC:20250129T193000
DTEND;TZID=UTC:20250129T200000
DTSTAMP:20260425T062759
CREATED:20250129T011958Z
LAST-MODIFIED:20250129T011958Z
UID:10083-1738179000-1738180800@martinsvilleil.com
SUMMARY:Street & Alley Committee Meeting - January 29\, 2025
DESCRIPTION:A Street & Alley Committee meeting will be held on Wednesday\, January 29\, 2025 starting at 7:30 p.m. This is a public meeting and the public is welcome to attend. \nThe Street & Alley Committee consists of Shane Pendleton (Chair)\, Chris Davidson and Harley Craig. \nPlease see the agenda below. \n01-29-2025 Street & Alley Committee Meeting
URL:https://martinsvilleil.com/event/street-alley-committee-meeting-january-29-2025/
LOCATION:City Hall\, 55 W. Cumberland St.\, Martinsville\, Illinois\, 62442
CATEGORIES:Committee Meeting
END:VEVENT
BEGIN:VEVENT
DTSTART;TZID=UTC:20250129T190000
DTEND;TZID=UTC:20250129T193000
DTSTAMP:20260425T062759
CREATED:20250129T011302Z
LAST-MODIFIED:20250129T011302Z
UID:10080-1738177200-1738179000@martinsvilleil.com
SUMMARY:Arbor Committee meeting - January 29\, 2025
DESCRIPTION:An Arbor Committee meeting will be held at City Hall\, starting at 7:00 p.m. on Wednesday\, January 29. This is a public meeting and the public is welcome to attend. \nThe Arbor Committee consists of Harley Craig (Chair)\, Ashley Wilhoit and Chris Perry. \nPlease see the agenda below. \n01-29-2025 Arbor Committee Meeting
URL:https://martinsvilleil.com/event/arbor-committee-meeting-january-29-2025/
LOCATION:City Hall\, 55 W. Cumberland St.\, Martinsville\, Illinois\, 62442
CATEGORIES:Committee Meeting
END:VEVENT
BEGIN:VEVENT
DTSTART;TZID=UTC:20240320T180000
DTEND;TZID=UTC:20240320T180000
DTSTAMP:20260425T062759
CREATED:20240319T232500Z
LAST-MODIFIED:20240319T232500Z
UID:886-1710957600-1710957600@martinsvilleil.com
SUMMARY:Open Committee Meeting 03-20-24
DESCRIPTION:An open committee meeting will be held at Martinsville City Hall on Wednesday\, March 20\, to discuss the building of a new City warehouse and to discuss TIF District and subdivision. The meeting begins at 6pm. The public is invited and welcome to attend. [tta_listen_btn] \n03-20-24 Open Committee Agenda.docx
URL:https://martinsvilleil.com/event/open-committee-meeting-03-20-24/
LOCATION:City Hall\, 55 W. Cumberland St.\, Martinsville\, Illinois\, 62442
CATEGORIES:Committee Meeting
END:VEVENT
END:VCALENDAR