BEGIN:VCALENDAR
VERSION:2.0
PRODID:-//City of Martinsville, Illinois - ECPv6.15.20//NONSGML v1.0//EN
CALSCALE:GREGORIAN
METHOD:PUBLISH
X-WR-CALNAME:City of Martinsville, Illinois
X-ORIGINAL-URL:https://martinsvilleil.com
X-WR-CALDESC:Events for City of Martinsville, Illinois
REFRESH-INTERVAL;VALUE=DURATION:PT1H
X-Robots-Tag:noindex
X-PUBLISHED-TTL:PT1H
BEGIN:VTIMEZONE
TZID:UTC
BEGIN:STANDARD
TZOFFSETFROM:+0000
TZOFFSETTO:+0000
TZNAME:UTC
DTSTART:20240101T000000
END:STANDARD
END:VTIMEZONE
BEGIN:VTIMEZONE
TZID:America/Chicago
BEGIN:DAYLIGHT
TZOFFSETFROM:-0600
TZOFFSETTO:-0500
TZNAME:CDT
DTSTART:20250309T080000
END:DAYLIGHT
BEGIN:STANDARD
TZOFFSETFROM:-0500
TZOFFSETTO:-0600
TZNAME:CST
DTSTART:20251102T070000
END:STANDARD
BEGIN:DAYLIGHT
TZOFFSETFROM:-0600
TZOFFSETTO:-0500
TZNAME:CDT
DTSTART:20260308T080000
END:DAYLIGHT
BEGIN:STANDARD
TZOFFSETFROM:-0500
TZOFFSETTO:-0600
TZNAME:CST
DTSTART:20261101T070000
END:STANDARD
BEGIN:DAYLIGHT
TZOFFSETFROM:-0600
TZOFFSETTO:-0500
TZNAME:CDT
DTSTART:20270314T080000
END:DAYLIGHT
BEGIN:STANDARD
TZOFFSETFROM:-0500
TZOFFSETTO:-0600
TZNAME:CST
DTSTART:20271107T070000
END:STANDARD
END:VTIMEZONE
BEGIN:VEVENT
DTSTART;TZID=UTC:20251224T190000
DTEND;TZID=UTC:20251224T200000
DTSTAMP:20260425T064857
CREATED:20250208T225947Z
LAST-MODIFIED:20251216T170218Z
UID:10491-1766602800-1766606400@martinsvilleil.com
SUMMARY:City Council Regular Meeting - December 24\, 2025
DESCRIPTION:THE COUNCIL MEETING SCHEDULED FOR DECEMBER 24TH HAS BEEN CANCELLED! \nHolidays Closings \n \n  \n \nDon’t miss the opportunity to be part of the decision-making process. Mark your calendars and attend our upcoming city council meeting!
URL:https://martinsvilleil.com/event/city-council-regular-meeting-december-24-2025/
LOCATION:City Hall\, 55 W. Cumberland St.\, Martinsville\, Illinois\, 62442
CATEGORIES:City Council Meeting
END:VEVENT
BEGIN:VEVENT
DTSTART;TZID=America/Chicago:20260114T190000
DTEND;TZID=America/Chicago:20260114T200000
DTSTAMP:20260425T064857
CREATED:20260113T012025Z
LAST-MODIFIED:20260113T012025Z
UID:20914-1768417200-1768420800@martinsvilleil.com
SUMMARY:City Council Regular Meeting - January 14\, 2026
DESCRIPTION:Join us at Martinsville City Hall for our regular City Council meetings held on the second and fourth Wednesdays of every month at 7pm (Central). Stay informed\, voice your opinions\, and shape the future of our community. \n01-14-2026 Agenda\n \nDon’t miss the opportunity to be part of the decision-making process. Mark your calendars and attend our upcoming city council meeting!
URL:https://martinsvilleil.com/event/city-council-regular-meeting-january-14-2026/
LOCATION:City Hall\, 55 W. Cumberland St.\, Martinsville\, Illinois\, 62442
CATEGORIES:City Council Meeting
END:VEVENT
BEGIN:VEVENT
DTSTART;TZID=America/Chicago:20260211T190000
DTEND;TZID=America/Chicago:20260211T200000
DTSTAMP:20260425T064857
CREATED:20260210T214623Z
LAST-MODIFIED:20260210T214623Z
UID:21211-1770836400-1770840000@martinsvilleil.com
SUMMARY:City Council Regular Meeting - February 11\, 2026
DESCRIPTION:Join us at Martinsville City Hall for our regular City Council meetings held on the second and fourth Wednesdays of every month at 7pm (Central). Stay informed\, voice your opinions\, and shape the future of our community. \n02-11-2026 Meeting\n \nDon’t miss the opportunity to be part of the decision-making process. Mark your calendars and attend our upcoming city council meeting!
URL:https://martinsvilleil.com/event/city-council-regular-meeting-february-11-2026/
LOCATION:City Hall\, 55 W. Cumberland St.\, Martinsville\, Illinois\, 62442
CATEGORIES:City Council Meeting
END:VEVENT
BEGIN:VEVENT
DTSTART;TZID=America/Chicago:20260311T190000
DTEND;TZID=America/Chicago:20260311T200000
DTSTAMP:20260425T064857
CREATED:20260303T231734Z
LAST-MODIFIED:20260311T150845Z
UID:21422-1773255600-1773259200@martinsvilleil.com
SUMMARY:City Council Regular Meeting - March 11\, 2026
DESCRIPTION:Join us at Martinsville City Hall for our regular City Council meetings held on the second and fourth Wednesdays of every month at 7pm (Central). Stay informed\, voice your opinions\, and shape the future of our community. \n03-11-26 meeting\n \nDon’t miss the opportunity to be part of the decision-making process. Mark your calendars and attend our upcoming city council meeting!
URL:https://martinsvilleil.com/event/city-council-regular-meeting-march-11-2026/
LOCATION:City Hall\, 55 W. Cumberland St.\, Martinsville\, Illinois\, 62442
CATEGORIES:City Council Meeting
END:VEVENT
BEGIN:VEVENT
DTSTART;TZID=America/Chicago:20260325T190000
DTEND;TZID=America/Chicago:20260325T190000
DTSTAMP:20260425T064857
CREATED:20260303T232129Z
LAST-MODIFIED:20260323T200350Z
UID:21432-1774465200-1774465200@martinsvilleil.com
SUMMARY:City Council Regular Meeting - March 25\, 2026
DESCRIPTION:Join us at Martinsville City Hall for our regular City Council meetings held on the second and fourth Wednesdays of every month at 7pm (Central). Stay informed\, voice your opinions\, and shape the future of our community. \n03-25-26 agenda\n \nDon’t miss the opportunity to be part of the decision-making process. Mark your calendars and attend our upcoming city council meeting!
URL:https://martinsvilleil.com/event/city-council-regular-meeting-march-25-2026/
LOCATION:City Hall\, 55 W. Cumberland St.\, Martinsville\, Illinois\, 62442
CATEGORIES:City Council Meeting
END:VEVENT
BEGIN:VEVENT
DTSTART;TZID=America/Chicago:20260408T190000
DTEND;TZID=America/Chicago:20260408T200000
DTSTAMP:20260425T064857
CREATED:20260303T232353Z
LAST-MODIFIED:20260406T172723Z
UID:21434-1775674800-1775678400@martinsvilleil.com
SUMMARY:City Council Regular Meeting - April 8\, 2026
DESCRIPTION:Join us at Martinsville City Hall for our regular City Council meetings held on the second and fourth Wednesdays of every month at 7pm (Central). Stay informed\, voice your opinions\, and shape the future of our community. \n04-08-2026 Agenda\n \nDon’t miss the opportunity to be part of the decision-making process. Mark your calendars and attend our upcoming city council meeting!
URL:https://martinsvilleil.com/event/city-council-regular-meeting-april-8-2026/
LOCATION:City Hall\, 55 W. Cumberland St.\, Martinsville\, Illinois\, 62442
CATEGORIES:City Council Meeting
END:VEVENT
BEGIN:VEVENT
DTSTART;TZID=America/Chicago:20260422T190000
DTEND;TZID=America/Chicago:20260422T200000
DTSTAMP:20260425T064857
CREATED:20260303T232454Z
LAST-MODIFIED:20260420T224936Z
UID:21436-1776884400-1776888000@martinsvilleil.com
SUMMARY:City Council Regular Meeting - April 22\, 2026
DESCRIPTION:Join us at Martinsville City Hall for our regular City Council meetings held on the second and fourth Wednesdays of every month at 7pm (Central). Stay informed\, voice your opinions\, and shape the future of our community. \n04-22-2026 Agenda\n \nDon’t miss the opportunity to be part of the decision-making process. Mark your calendars and attend our upcoming city council meeting!
URL:https://martinsvilleil.com/event/city-council-regular-meeting-april-22-2026/
LOCATION:City Hall\, 55 W. Cumberland St.\, Martinsville\, Illinois\, 62442
CATEGORIES:City Council Meeting
END:VEVENT
END:VCALENDAR