BEGIN:VCALENDAR
VERSION:2.0
PRODID:-//City of Martinsville, Illinois - ECPv6.15.20//NONSGML v1.0//EN
CALSCALE:GREGORIAN
METHOD:PUBLISH
X-WR-CALNAME:City of Martinsville, Illinois
X-ORIGINAL-URL:https://martinsvilleil.com
X-WR-CALDESC:Events for City of Martinsville, Illinois
REFRESH-INTERVAL;VALUE=DURATION:PT1H
X-Robots-Tag:noindex
X-PUBLISHED-TTL:PT1H
BEGIN:VTIMEZONE
TZID:UTC
BEGIN:STANDARD
TZOFFSETFROM:+0000
TZOFFSETTO:+0000
TZNAME:UTC
DTSTART:20230101T000000
END:STANDARD
END:VTIMEZONE
BEGIN:VTIMEZONE
TZID:America/Chicago
BEGIN:DAYLIGHT
TZOFFSETFROM:-0600
TZOFFSETTO:-0500
TZNAME:CDT
DTSTART:20240310T080000
END:DAYLIGHT
BEGIN:STANDARD
TZOFFSETFROM:-0500
TZOFFSETTO:-0600
TZNAME:CST
DTSTART:20241103T070000
END:STANDARD
BEGIN:DAYLIGHT
TZOFFSETFROM:-0600
TZOFFSETTO:-0500
TZNAME:CDT
DTSTART:20250309T080000
END:DAYLIGHT
BEGIN:STANDARD
TZOFFSETFROM:-0500
TZOFFSETTO:-0600
TZNAME:CST
DTSTART:20251102T070000
END:STANDARD
BEGIN:DAYLIGHT
TZOFFSETFROM:-0600
TZOFFSETTO:-0500
TZNAME:CDT
DTSTART:20260308T080000
END:DAYLIGHT
BEGIN:STANDARD
TZOFFSETFROM:-0500
TZOFFSETTO:-0600
TZNAME:CST
DTSTART:20261101T070000
END:STANDARD
END:VTIMEZONE
BEGIN:VTIMEZONE
TZID:America/New_York
BEGIN:DAYLIGHT
TZOFFSETFROM:-0500
TZOFFSETTO:-0400
TZNAME:EDT
DTSTART:20240310T070000
END:DAYLIGHT
BEGIN:STANDARD
TZOFFSETFROM:-0400
TZOFFSETTO:-0500
TZNAME:EST
DTSTART:20241103T060000
END:STANDARD
BEGIN:DAYLIGHT
TZOFFSETFROM:-0500
TZOFFSETTO:-0400
TZNAME:EDT
DTSTART:20250309T070000
END:DAYLIGHT
BEGIN:STANDARD
TZOFFSETFROM:-0400
TZOFFSETTO:-0500
TZNAME:EST
DTSTART:20251102T060000
END:STANDARD
BEGIN:DAYLIGHT
TZOFFSETFROM:-0500
TZOFFSETTO:-0400
TZNAME:EDT
DTSTART:20260308T070000
END:DAYLIGHT
BEGIN:STANDARD
TZOFFSETFROM:-0400
TZOFFSETTO:-0500
TZNAME:EST
DTSTART:20261101T060000
END:STANDARD
END:VTIMEZONE
BEGIN:VEVENT
DTSTART;TZID=UTC:20250924T190000
DTEND;TZID=UTC:20250924T200000
DTSTAMP:20260423T202808
CREATED:20250208T224638Z
LAST-MODIFIED:20250923T013800Z
UID:10476-1758740400-1758744000@martinsvilleil.com
SUMMARY:City Council Regular Meeting - September 24\, 2025
DESCRIPTION:Join us at Martinsville City Hall for our regular City Council meetings held on the second and fourth Wednesdays of every month at 7pm (Central). Stay informed\, voice your opinions\, and shape the future of our community. \n09-24-2025 Meeting Agenda\n \nDon’t miss the opportunity to be part of the decision-making process. Mark your calendars and attend our upcoming city council meeting!
URL:https://martinsvilleil.com/event/city-council-regular-meeting-september-24-2025/
LOCATION:City Hall\, 55 W. Cumberland St.\, Martinsville\, Illinois\, 62442
CATEGORIES:City Council Meeting
END:VEVENT
BEGIN:VEVENT
DTSTART;TZID=America/Chicago:20250922T180000
DTEND;TZID=America/Chicago:20250922T190000
DTSTAMP:20260423T202809
CREATED:20250923T014246Z
LAST-MODIFIED:20250923T014246Z
UID:15071-1758564000-1758567600@martinsvilleil.com
SUMMARY:City Council Special Meeting - September 24\, 2025
DESCRIPTION:A special meeting of Martinsville City Council will be held at 6:00 p.m. at the Martinsville Community Center. The public is welcome and encouraged to attend! \n09-24-2025 Special Meeting\n \nDon’t miss the opportunity to be part of the decision-making process. Mark your calendars and attend our upcoming city council meeting!
URL:https://martinsvilleil.com/event/city-council-special-meeting-september-24-2025/
LOCATION:Martinsville Community Center\, 122 W. Cumberland St\, Martinsville\, IL\, 62442\, United States
CATEGORIES:City Council Meeting
END:VEVENT
BEGIN:VEVENT
DTSTART;TZID=UTC:20250827T190000
DTEND;TZID=UTC:20250827T200000
DTSTAMP:20260423T202809
CREATED:20250208T224307Z
LAST-MODIFIED:20250825T225235Z
UID:10472-1756321200-1756324800@martinsvilleil.com
SUMMARY:City Council Regular Meeting - August 27\, 2025
DESCRIPTION:Join us at Martinsville City Hall for our regular City Council meetings held on the second and fourth Wednesdays of every month at 7pm (Central). Stay informed\, voice your opinions\, and shape the future of our community. \n08-27-2025 Meeting Agenda\n \nDon’t miss the opportunity to be part of the decision-making process. Mark your calendars and attend our upcoming city council meeting!
URL:https://martinsvilleil.com/event/city-council-regular-meeting-august-27-2025/
LOCATION:City Hall\, 55 W. Cumberland St.\, Martinsville\, Illinois\, 62442
CATEGORIES:City Council Meeting
END:VEVENT
BEGIN:VEVENT
DTSTART;TZID=UTC:20250813T190000
DTEND;TZID=UTC:20250813T200000
DTSTAMP:20260423T202809
CREATED:20250208T224102Z
LAST-MODIFIED:20250208T224127Z
UID:10470-1755111600-1755115200@martinsvilleil.com
SUMMARY:City Council Regular Meeting - August 13\, 2025
DESCRIPTION:Join us at Martinsville City Hall for our regular City Council meetings held on the second and fourth Wednesdays of every month at 7pm (Central). Stay informed\, voice your opinions\, and shape the future of our community. \n  \n \nDon’t miss the opportunity to be part of the decision-making process. Mark your calendars and attend our upcoming city council meeting!
URL:https://martinsvilleil.com/event/city-council-regular-meeting-august-13-2025/
LOCATION:City Hall\, 55 W. Cumberland St.\, Martinsville\, Illinois\, 62442
CATEGORIES:City Council Meeting
END:VEVENT
BEGIN:VEVENT
DTSTART;TZID=UTC:20250723T190000
DTEND;TZID=UTC:20250723T200000
DTSTAMP:20260423T202809
CREATED:20250208T223830Z
LAST-MODIFIED:20250721T174631Z
UID:10467-1753297200-1753300800@martinsvilleil.com
SUMMARY:City Council Regular Meeting - July 23\, 2025
DESCRIPTION:Join us at Martinsville City Hall for our regular City Council meetings held on the second and fourth Wednesdays of every month at 7pm (Central). Stay informed\, voice your opinions\, and shape the future of our community. \n07-23-25 Meeting Agenda\n \nDon’t miss the opportunity to be part of the decision-making process. Mark your calendars and attend our upcoming city council meeting!
URL:https://martinsvilleil.com/event/city-council-regular-meeting-july-23-2025-2/
LOCATION:City Hall\, 55 W. Cumberland St.\, Martinsville\, Illinois\, 62442
CATEGORIES:City Council Meeting
END:VEVENT
BEGIN:VEVENT
DTSTART;TZID=America/New_York:20250625T190000
DTEND;TZID=America/New_York:20250625T200000
DTSTAMP:20260423T202809
CREATED:20250208T223244Z
LAST-MODIFIED:20250624T002733Z
UID:10461-1750878000-1750881600@martinsvilleil.com
SUMMARY:City Council Regular Meeting - June 25\, 2025
DESCRIPTION:Join us at Martinsville City Hall for our regular City Council meetings held on the second and fourth Wednesdays of every month at 7pm (Central). Stay informed\, voice your opinions\, and shape the future of our community. \n06-25-2025 Meeting Agenda\n \nDon’t miss the opportunity to be part of the decision-making process. Mark your calendars and attend our upcoming city council meeting!
URL:https://martinsvilleil.com/event/city-council-regular-meeting-june-25-2025/
LOCATION:City Hall\, 55 W. Cumberland St.\, Martinsville\, Illinois\, 62442
CATEGORIES:City Council Meeting
END:VEVENT
BEGIN:VEVENT
DTSTART;TZID=UTC:20250611T190000
DTEND;TZID=UTC:20250611T200000
DTSTAMP:20260423T202809
CREATED:20250208T223026Z
LAST-MODIFIED:20250610T004726Z
UID:10459-1749668400-1749672000@martinsvilleil.com
SUMMARY:City Council Regular Meeting - June 11\, 2025
DESCRIPTION:Join us at Martinsville City Hall for our regular City Council meetings held on the second and fourth Wednesdays of every month at 7pm (Central). Stay informed\, voice your opinions\, and shape the future of our community. \n06-11-2025 Meeting Agenda\n \nDon’t miss the opportunity to be part of the decision-making process. Mark your calendars and attend our upcoming city council meeting!
URL:https://martinsvilleil.com/event/city-council-regular-meeting-june-11-2025/
LOCATION:City Hall\, 55 W. Cumberland St.\, Martinsville\, Illinois\, 62442
CATEGORIES:City Council Meeting
END:VEVENT
BEGIN:VEVENT
DTSTART;TZID=UTC:20250604T190000
DTEND;TZID=UTC:20250604T200000
DTSTAMP:20260423T202809
CREATED:20250603T010905Z
LAST-MODIFIED:20250603T014655Z
UID:12185-1749063600-1749067200@martinsvilleil.com
SUMMARY:Special Meeting - June 4\, 2025
DESCRIPTION:Martinsville City Council will hold a special meeting on Wednesday\, June 4\, 2025 at City Hall. \n06-04-2025 Special Meeting Agenda
URL:https://martinsvilleil.com/event/special-meeting-june-4-2025/
LOCATION:City Hall\, 55 W. Cumberland St.\, Martinsville\, Illinois\, 62442
CATEGORIES:City Council Meeting
END:VEVENT
BEGIN:VEVENT
DTSTART;TZID=UTC:20250528T190000
DTEND;TZID=UTC:20250528T200000
DTSTAMP:20260423T202809
CREATED:20250208T222616Z
LAST-MODIFIED:20250208T222616Z
UID:10457-1748458800-1748462400@martinsvilleil.com
SUMMARY:City Council Regular Meeting - May 28\, 2025
DESCRIPTION:Join us at Martinsville City Hall for our regular City Council meetings held on the second and fourth Wednesdays of every month at 7pm (Central). Stay informed\, voice your opinions\, and shape the future of our community. \n  \n \nDon’t miss the opportunity to be part of the decision-making process. Mark your calendars and attend our upcoming city council meeting!
URL:https://martinsvilleil.com/event/city-council-regular-meeting-may-28-2025/
LOCATION:City Hall\, 55 W. Cumberland St.\, Martinsville\, Illinois\, 62442
CATEGORIES:City Council Meeting
END:VEVENT
BEGIN:VEVENT
DTSTART;TZID=UTC:20250514T190000
DTEND;TZID=UTC:20250514T200000
DTSTAMP:20260423T202809
CREATED:20250208T222055Z
LAST-MODIFIED:20250513T030827Z
UID:10455-1747249200-1747252800@martinsvilleil.com
SUMMARY:City Council Regular Meeting - May 14\, 2025
DESCRIPTION:Join us at Martinsville City Hall for our regular City Council meetings held on the second and fourth Wednesdays of every month at 7pm (Central). Stay informed\, voice your opinions\, and shape the future of our community. \n05-14-2025 Agenda\n \nDon’t miss the opportunity to be part of the decision-making process. Mark your calendars and attend our upcoming city council meeting!
URL:https://martinsvilleil.com/event/city-council-regular-meeting-may-14-2025/
LOCATION:City Hall\, 55 W. Cumberland St.\, Martinsville\, Illinois\, 62442
CATEGORIES:City Council Meeting
END:VEVENT
BEGIN:VEVENT
DTSTART;TZID=UTC:20250423T190000
DTEND;TZID=UTC:20250423T200000
DTSTAMP:20260423T202809
CREATED:20250208T221911Z
LAST-MODIFIED:20250422T020534Z
UID:10453-1745434800-1745438400@martinsvilleil.com
SUMMARY:City Council Regular Meeting - April 23\, 2025
DESCRIPTION:Join us at Martinsville City Hall for our regular City Council meetings held on the second and fourth Wednesdays of every month at 7pm (Central). Stay informed\, voice your opinions\, and shape the future of our community. \n04-23-25 Council Meeting\n \nDon’t miss the opportunity to be part of the decision-making process. Mark your calendars and attend our upcoming city council meeting!
URL:https://martinsvilleil.com/event/city-council-regular-meeting-april-23-2025/
LOCATION:City Hall\, 55 W. Cumberland St.\, Martinsville\, Illinois\, 62442
CATEGORIES:City Council Meeting
END:VEVENT
BEGIN:VEVENT
DTSTART;TZID=UTC:20250415T180000
DTEND;TZID=UTC:20250415T190000
DTSTAMP:20260423T202809
CREATED:20250414T045805Z
LAST-MODIFIED:20250414T045805Z
UID:11865-1744740000-1744743600@martinsvilleil.com
SUMMARY:Special Meeting - April 15\, 2025
DESCRIPTION:City Council will hold a Special Meeting on Tuesday\, April 15\, at 6 p.m. at City Hall. \n04-15-25 Special Meeting
URL:https://martinsvilleil.com/event/special-meeting-april-15-2025/
LOCATION:City Hall\, 55 W. Cumberland St.\, Martinsville\, Illinois\, 62442
CATEGORIES:City Council Meeting
END:VEVENT
BEGIN:VEVENT
DTSTART;TZID=UTC:20250409T190000
DTEND;TZID=UTC:20250409T200000
DTSTAMP:20260423T202809
CREATED:20250208T221708Z
LAST-MODIFIED:20250408T010716Z
UID:10451-1744225200-1744228800@martinsvilleil.com
SUMMARY:City Council Regular Meeting - April 9\, 2025
DESCRIPTION:Join us at Martinsville City Hall for our regular City Council meetings held on the second and fourth Wednesdays of every month at 7pm (Central). Stay informed\, voice your opinions\, and shape the future of our community. \n04-09-2025 Agenda\n \nDon’t miss the opportunity to be part of the decision-making process. Mark your calendars and attend our upcoming city council meeting!
URL:https://martinsvilleil.com/event/city-council-regular-meeting-april-9-2025/
LOCATION:City Hall\, 55 W. Cumberland St.\, Martinsville\, Illinois\, 62442
CATEGORIES:City Council Meeting
END:VEVENT
BEGIN:VEVENT
DTSTART;TZID=UTC:20250330T180000
DTEND;TZID=UTC:20250330T190000
DTSTAMP:20260423T202809
CREATED:20250328T024547Z
LAST-MODIFIED:20250328T024547Z
UID:11779-1743357600-1743361200@martinsvilleil.com
SUMMARY:Special Meeting - March 30\, 2025
DESCRIPTION:A special meeting of City Council will be held at 6 p.m. on Sunday\, March 30\, 2025 to consider and approve the hire of a Street and Alley employee. \nSpecial Meeting March 30\, 2025
URL:https://martinsvilleil.com/event/special-meeting-march-30-2025/
LOCATION:City Hall\, 55 W. Cumberland St.\, Martinsville\, Illinois\, 62442
CATEGORIES:City Council Meeting
END:VEVENT
BEGIN:VEVENT
DTSTART;TZID=UTC:20250326T190000
DTEND;TZID=UTC:20250326T200000
DTSTAMP:20260423T202809
CREATED:20250208T221506Z
LAST-MODIFIED:20250325T011401Z
UID:10448-1743015600-1743019200@martinsvilleil.com
SUMMARY:City Council Regular Meeting - March 26\, 2025
DESCRIPTION:Join us at Martinsville City Hall for our regular City Council meetings held on the second and fourth Wednesdays of every month at 7pm (Central). Stay informed\, voice your opinions\, and shape the future of our community. \n03-26-2025 Agenda\n \nDon’t miss the opportunity to be part of the decision-making process. Mark your calendars and attend our upcoming city council meeting!
URL:https://martinsvilleil.com/event/city-council-regular-meeting-march-26-2025/
LOCATION:City Hall\, 55 W. Cumberland St.\, Martinsville\, Illinois\, 62442
CATEGORIES:City Council Meeting
END:VEVENT
BEGIN:VEVENT
DTSTART;TZID=UTC:20250312T190000
DTEND;TZID=UTC:20250312T200000
DTSTAMP:20260423T202809
CREATED:20250208T221304Z
LAST-MODIFIED:20250311T030953Z
UID:10446-1741806000-1741809600@martinsvilleil.com
SUMMARY:City Council Regular Meeting - March 12\, 2025
DESCRIPTION:Join us at Martinsville City Hall for our regular City Council meetings held on the second and fourth Wednesdays of every month at 7pm (Central). Stay informed\, voice your opinions\, and shape the future of our community. \n03-12-2025 Agenda\n \nDon’t miss the opportunity to be part of the decision-making process. Mark your calendars and attend our upcoming city council meeting!
URL:https://martinsvilleil.com/event/city-council-regular-meeting-march-12-2025/
LOCATION:City Hall\, 55 W. Cumberland St.\, Martinsville\, Illinois\, 62442
CATEGORIES:City Council Meeting
END:VEVENT
BEGIN:VEVENT
DTSTART;TZID=UTC:20250226T190000
DTEND;TZID=UTC:20250226T200000
DTSTAMP:20260423T202809
CREATED:20250208T220802Z
LAST-MODIFIED:20250225T220213Z
UID:10444-1740596400-1740600000@martinsvilleil.com
SUMMARY:City Council Regular Meeting - February 26\, 2025
DESCRIPTION:Join us at Martinsville City Hall for our regular City Council meetings held on the second and fourth Wednesdays of every month at 7pm (Central). Stay informed\, voice your opinions\, and shape the future of our community. \n02-26-2025 Agenda\n \nDon’t miss the opportunity to be part of the decision-making process. Mark your calendars and attend our upcoming city council meeting!
URL:https://martinsvilleil.com/event/city-council-regular-meeting-february-26-2025/
LOCATION:City Hall\, 55 W. Cumberland St.\, Martinsville\, Illinois\, 62442
CATEGORIES:City Council Meeting
END:VEVENT
BEGIN:VEVENT
DTSTART;TZID=UTC:20250212T190000
DTEND;TZID=UTC:20250212T200000
DTSTAMP:20260423T202809
CREATED:20250208T220543Z
LAST-MODIFIED:20250208T220543Z
UID:10442-1739386800-1739390400@martinsvilleil.com
SUMMARY:City Council Regular Meeting - February 12\, 2025
DESCRIPTION:Join us at Martinsville City Hall for our regular City Council meetings held on the second and fourth Wednesdays of every month at 7pm (Central). Stay informed\, voice your opinions\, and shape the future of our community. \n  \n \nDon’t miss the opportunity to be part of the decision-making process. Mark your calendars and attend our upcoming city council meeting!
URL:https://martinsvilleil.com/event/city-council-regular-meeting-february-12-2025/
LOCATION:City Hall\, 55 W. Cumberland St.\, Martinsville\, Illinois\, 62442
CATEGORIES:City Council Meeting
END:VEVENT
BEGIN:VEVENT
DTSTART;TZID=UTC:20250108T190000
DTEND;TZID=UTC:20250108T200000
DTSTAMP:20260423T202809
CREATED:20250107T033018Z
LAST-MODIFIED:20250107T033018Z
UID:7415-1736362800-1736366400@martinsvilleil.com
SUMMARY:City Council Regular Meeting - January 8\, 2025
DESCRIPTION:Join us at Martinsville City Hall for our regular City Council meetings held on the second and fourth Wednesdays of every month at 7pm (Central). Stay informed\, voice your opinions\, and shape the future of our community. \n01-08-2025 Agenda\n \nDon’t miss the opportunity to be part of the decision-making process. Mark your calendars and attend our upcoming city council meeting!
URL:https://martinsvilleil.com/event/city-council-regular-meeting-january-8-2025/
LOCATION:City Hall\, 55 W. Cumberland St.\, Martinsville\, Illinois\, 62442
CATEGORIES:City Council Meeting
END:VEVENT
BEGIN:VEVENT
DTSTART;TZID=UTC:20241211T190000
DTEND;TZID=UTC:20241211T190000
DTSTAMP:20260423T202809
CREATED:20240520T002747Z
LAST-MODIFIED:20241210T094446Z
UID:1240-1733943600-1733943600@martinsvilleil.com
SUMMARY:City Council Meeting - December 11\, 2024
DESCRIPTION:Join us at Martinsville City Hall for city council meetings held on the 2nd and 4th Wednesdays of every month at 7pm (Central). Stay informed\, voice your opinions\, and shape the future of our community. \n12-11-2024 Agenda\n \nDon’t miss the opportunity to be part of the decision-making process. Mark your calendars and attend our upcoming city council meetings!
URL:https://martinsvilleil.com/event/city-council-meeting-december-11-2024/
LOCATION:City Hall\, 55 W. Cumberland St.\, Martinsville\, Illinois\, 62442
CATEGORIES:City Council Meeting
END:VEVENT
BEGIN:VEVENT
DTSTART;TZID=UTC:20241127T190000
DTEND;TZID=UTC:20241127T190000
DTSTAMP:20260423T202809
CREATED:20240520T002545Z
LAST-MODIFIED:20241126T044359Z
UID:1238-1732734000-1732734000@martinsvilleil.com
SUMMARY:City Council Meeting - November 27\, 2024
DESCRIPTION:Join us at Martinsville City Hall for city council meetings held on the 2nd and 4th Wednesdays of every month at 7pm (Central). Stay informed\, voice your opinions\, and shape the future of our community. \n11-27-2024 Agenda\n \nDon’t miss the opportunity to be part of the decision-making process. Mark your calendars and attend our upcoming city council meetings!
URL:https://martinsvilleil.com/event/city-council-meeting-november-27-2024/
LOCATION:City Hall\, 55 W. Cumberland St.\, Martinsville\, Illinois\, 62442
CATEGORIES:City Council Meeting
END:VEVENT
BEGIN:VEVENT
DTSTART;TZID=UTC:20241113T190000
DTEND;TZID=UTC:20241113T190000
DTSTAMP:20260423T202809
CREATED:20240520T002402Z
LAST-MODIFIED:20241109T041407Z
UID:1236-1731524400-1731524400@martinsvilleil.com
SUMMARY:City Council Meeting - November 13\, 2024
DESCRIPTION:Join us at Martinsville City Hall for city council meetings held on the 2nd and 4th Wednesdays of every month at 7pm (Central). Stay informed\, voice your opinions\, and shape the future of our community. \n11-13-2024 Agenda\n \nDon’t miss the opportunity to be part of the decision-making process. Mark your calendars and attend our upcoming city council meetings!
URL:https://martinsvilleil.com/event/city-council-meeting-november-13-2024/
LOCATION:City Hall\, 55 W. Cumberland St.\, Martinsville\, Illinois\, 62442
CATEGORIES:City Council Meeting
END:VEVENT
BEGIN:VEVENT
DTSTART;TZID=UTC:20241023T190000
DTEND;TZID=UTC:20241023T190000
DTSTAMP:20260423T202809
CREATED:20240520T002153Z
LAST-MODIFIED:20241022T071632Z
UID:1234-1729710000-1729710000@martinsvilleil.com
SUMMARY:City Council Meeting - October 23\, 2024
DESCRIPTION:Join us at Martinsville City Hall for city council meetings held on the 2nd and 4th Wednesdays of every month at 7pm (Central). Stay informed\, voice your opinions\, and shape the future of our community. \n10-23-2024 Agenda\n \nDon’t miss the opportunity to be part of the decision-making process. Mark your calendars and attend our upcoming city council meetings!
URL:https://martinsvilleil.com/event/city-council-meeting-october-23-2024/
LOCATION:City Hall\, 55 W. Cumberland St.\, Martinsville\, Illinois\, 62442
CATEGORIES:City Council Meeting
END:VEVENT
BEGIN:VEVENT
DTSTART;TZID=UTC:20241010T080000
DTEND;TZID=UTC:20241010T170000
DTSTAMP:20260423T202809
CREATED:20241011T035220Z
LAST-MODIFIED:20241011T035220Z
UID:7141-1728547200-1728579600@martinsvilleil.com
SUMMARY:Special Meeting - October 13\, 2024
DESCRIPTION:A special meeting of City Council will be held on Sunday\, October 13 at 1pm at Martinsville City Hall. \n10-13-2024 Special Meeting Agenda\n 
URL:https://martinsvilleil.com/event/special-meeting-october-13-2024/
LOCATION:City Hall\, 55 W. Cumberland St.\, Martinsville\, Illinois\, 62442
CATEGORIES:City Council Meeting
END:VEVENT
BEGIN:VEVENT
DTSTART;TZID=UTC:20241009T190000
DTEND;TZID=UTC:20241009T190000
DTSTAMP:20260423T202809
CREATED:20240520T002003Z
LAST-MODIFIED:20241008T092026Z
UID:1232-1728500400-1728500400@martinsvilleil.com
SUMMARY:City Council Meeting - October 9\, 2024
DESCRIPTION:Join us at Martinsville City Hall for city council meetings held on the 2nd and 4th Wednesdays of every month at 7pm (Central). Stay informed\, voice your opinions\, and shape the future of our community. \nAgenda 10-09-2024\n \nDon’t miss the opportunity to be part of the decision-making process. Mark your calendars and attend our upcoming city council meetings!
URL:https://martinsvilleil.com/event/city-council-meeting-october-9-2024/
LOCATION:City Hall\, 55 W. Cumberland St.\, Martinsville\, Illinois\, 62442
CATEGORIES:City Council Meeting
END:VEVENT
BEGIN:VEVENT
DTSTART;TZID=UTC:20240925T190000
DTEND;TZID=UTC:20240925T190000
DTSTAMP:20260423T202809
CREATED:20240520T001756Z
LAST-MODIFIED:20240924T013225Z
UID:1230-1727290800-1727290800@martinsvilleil.com
SUMMARY:City Council Meeting - September 25\, 2024
DESCRIPTION:Join us at Martinsville City Hall for city council meetings held on the 2nd and 4th Wednesdays of every month at 7pm (Central). Stay informed\, voice your opinions\, and shape the future of our community. \n09-25-24 Agenda\n \nDon’t miss the opportunity to be part of the decision-making process. Mark your calendars and attend our upcoming city council meetings!
URL:https://martinsvilleil.com/event/city-council-meeting-september-25-2024/
LOCATION:City Hall\, 55 W. Cumberland St.\, Martinsville\, Illinois\, 62442
CATEGORIES:City Council Meeting
END:VEVENT
BEGIN:VEVENT
DTSTART;TZID=UTC:20240911T190000
DTEND;TZID=UTC:20240911T200000
DTSTAMP:20260423T202809
CREATED:20240520T001612Z
LAST-MODIFIED:20240910T053924Z
UID:1228-1726081200-1726084800@martinsvilleil.com
SUMMARY:City Council Meeting - September 11\, 2024
DESCRIPTION:Join us at Martinsville Community Center for city council meetings held on the 2nd and 4th Wednesdays of every month at 7pm (Central). Stay informed\, voice your opinions\, and shape the future of our community. \n09-11-2024 Agenda_cx\n \nDon’t miss the opportunity to be part of the decision-making process. Mark your calendars and attend our upcoming city council meetings!
URL:https://martinsvilleil.com/event/city-council-meeting-september-11-2024/
LOCATION:Martinsville Community Center\, 122 W. Cumberland St\, Martinsville\, IL\, 62442\, United States
CATEGORIES:City Council Meeting
END:VEVENT
BEGIN:VEVENT
DTSTART;TZID=UTC:20240830T190000
DTEND;TZID=UTC:20240830T220000
DTSTAMP:20260423T202809
CREATED:20240830T223508Z
LAST-MODIFIED:20240831T002321Z
UID:6989-1725044400-1725055200@martinsvilleil.com
SUMMARY:Emergency Meeting - August 30\, 2024
DESCRIPTION:08-30-24 Emergency mtg Agenda.docx\n 
URL:https://martinsvilleil.com/event/emergency-meeting-august-30-2024/
LOCATION:City Hall\, 55 W. Cumberland St.\, Martinsville\, Illinois\, 62442
CATEGORIES:City Council Meeting
END:VEVENT
BEGIN:VEVENT
DTSTART;TZID=UTC:20240830T180000
DTEND;TZID=UTC:20240830T190000
DTSTAMP:20260423T202809
CREATED:20240831T045218Z
LAST-MODIFIED:20240902T221457Z
UID:6999-1725040800-1725044400@martinsvilleil.com
SUMMARY:Special Meeting - September 4\, 2024
DESCRIPTION:A Special Meeting of City Council will be held at 6 p.m. on September 4\, 2024 at Martinsville City Hall. \n09-04-24 Special Meeting Agenda.docx
URL:https://martinsvilleil.com/event/special-meeting-september-4-2024/
LOCATION:City Hall\, 55 W. Cumberland St.\, Martinsville\, Illinois\, 62442
CATEGORIES:City Council Meeting
END:VEVENT
BEGIN:VEVENT
DTSTART;TZID=UTC:20240828T190000
DTEND;TZID=UTC:20240828T190000
DTSTAMP:20260423T202809
CREATED:20240520T001407Z
LAST-MODIFIED:20240827T061404Z
UID:1226-1724871600-1724871600@martinsvilleil.com
SUMMARY:City Council Meeting - August 28\, 2024
DESCRIPTION:Join us at Martinsville City Hall for city council meetings held on the 2nd and 4th Wednesdays of every month at 7pm (Central). Stay informed\, voice your opinions\, and shape the future of our community. \n08-28-24 Agenda.docx\n \nDon’t miss the opportunity to be part of the decision-making process. Mark your calendars and attend our upcoming city council meetings!
URL:https://martinsvilleil.com/event/city-council-meeting-august-28-2024/
LOCATION:City Hall\, 55 W. Cumberland St.\, Martinsville\, Illinois\, 62442
CATEGORIES:City Council Meeting
END:VEVENT
END:VCALENDAR