BEGIN:VCALENDAR
VERSION:2.0
PRODID:-//City of Martinsville, Illinois - ECPv6.15.20//NONSGML v1.0//EN
CALSCALE:GREGORIAN
METHOD:PUBLISH
X-ORIGINAL-URL:https://martinsvilleil.com
X-WR-CALDESC:Events for City of Martinsville, Illinois
REFRESH-INTERVAL;VALUE=DURATION:PT1H
X-Robots-Tag:noindex
X-PUBLISHED-TTL:PT1H
BEGIN:VTIMEZONE
TZID:UTC
BEGIN:STANDARD
TZOFFSETFROM:+0000
TZOFFSETTO:+0000
TZNAME:UTC
DTSTART:20240101T000000
END:STANDARD
END:VTIMEZONE
BEGIN:VEVENT
DTSTART;TZID=UTC:20250330T180000
DTEND;TZID=UTC:20250330T190000
DTSTAMP:20260425T080125
CREATED:20250328T024547Z
LAST-MODIFIED:20250328T024547Z
UID:11779-1743357600-1743361200@martinsvilleil.com
SUMMARY:Special Meeting - March 30\, 2025
DESCRIPTION:A special meeting of City Council will be held at 6 p.m. on Sunday\, March 30\, 2025 to consider and approve the hire of a Street and Alley employee. \nSpecial Meeting March 30\, 2025
URL:https://martinsvilleil.com/event/special-meeting-march-30-2025/
LOCATION:City Hall\, 55 W. Cumberland St.\, Martinsville\, Illinois\, 62442
CATEGORIES:City Council Meeting
END:VEVENT
END:VCALENDAR